BEGIN:VCALENDAR
VERSION:2.0
PRODID:-//PYVOBJECT//NONSGML Version 0.9.9//EN
X-WR-TIMEZONE:Africa/Johannesburg
BEGIN:VTIMEZONE
TZID:Africa/Johannesburg
BEGIN:STANDARD
DTSTART:20000101T000000
RRULE:FREQ=YEARLY;BYMONTH=1
TZNAME:SAST
TZOFFSETFROM:+0200
TZOFFSETTO:+0200
END:STANDARD
END:VTIMEZONE
BEGIN:VEVENT
UID:20260421T094310Z - 99765@eos-content
DTSTART;TZID=Africa/Johannesburg:20260422T160000
DTEND;TZID=Africa/Johannesburg:20260422T173000
ATTENDEE:MAILTO:basie@basiebotha.co.za
ATTENDEE:MAILTO:erica@basiebotha.co.za
DESCRIPTION:https://www.basiebotha.co.za/results/residential/for-sale/nelsp
 ruit/sonheuwel-ext-1/house/3040172/13-legato-street/\n\nBy Appointment: ph
 one 0824587415\n\nBasie Botha (082 458 7415)\n\nErica Botha (082 497 9322)
DTSTAMP:20260421T094310Z
LOCATION:13 Legato Street\, Sonheuwel Ext 1\, Nelspruit
SUMMARY:Basie Botha Properties in Nelspruit Show Day - RL717
END:VEVENT
END:VCALENDAR
